BEGIN:VCALENDAR
VERSION:2.0
PRODID:-//Intand Corporation//Tandem//EN
METHOD:PUBLISH
BEGIN:VEVENT
DTSTAMP:20260421T170313Z
DTSTART:20260425T190000Z
DTEND:20260425T200000Z
TRANSP:TRANSPARENT
PRIORITY:0
SUMMARY:Varsity Water Polo State Finals
LOCATION:Belen Jesuit
DESCRIPTION:Groups:\nAthletics\nUpper School\nWater Polo Boys Varsity\n\nS
 chools:\nWestminster Academy - Upper School\n\nLocation:\nBelen Jesuit\n\n
URL;VALUE=URI:http://wa.wacad.tandem.co/index.php?type=view&action=event&i
 d=97692
CREATED:20260418T004920Z
LAST-MODIFIED:20260418T004920Z
UID:event-97692-westminsteracademy@intand.com
END:VEVENT
END:VCALENDAR
