BEGIN:VCALENDAR
VERSION:2.0
PRODID:-//Intand Corporation//Tandem//EN
METHOD:PUBLISH
BEGIN:VEVENT
DTSTAMP:20260421T172822Z
DTSTART:20260430T210000Z
DTEND:20260430T220000Z
TRANSP:TRANSPARENT
PRIORITY:0
SUMMARY:MS Swimming WA Invitational
LOCATION:WA - Big Pool
DESCRIPTION:Groups:\nAthletics\nUpper School\nSwimming/Diving MS\n\nSchool
 s:\nWestminster Academy - Upper School\n\nLocation:\nWA - Big Pool\n\n
URL;VALUE=URI:http://wa.wacad.tandem.co/index.php?type=view&action=event&i
 d=97279
CREATED:20260304T163236Z
LAST-MODIFIED:20260304T163236Z
UID:event-97279-westminsteracademy@intand.com
END:VEVENT
END:VCALENDAR
