BEGIN:VCALENDAR
VERSION:2.0
PRODID:-//Intand Corporation//Tandem//EN
METHOD:PUBLISH
BEGIN:VEVENT
DTSTAMP:20260421T172818Z
DTSTART:20260415T193000Z
DTEND:20260415T203000Z
TRANSP:TRANSPARENT
PRIORITY:0
SUMMARY:Varsity Baseball District Semifinals
LOCATION:Chaminade-Madonna
DESCRIPTION:Groups:\nBaseball Varsity\nAthletics\nUpper School\n\nSchools:
 \nChaminade-Madonna\nWestminster Academy - Upper School\n\nLocation:\nCham
 inade-Madonna\n\n
URL;VALUE=URI:http://wa.wacad.tandem.co/index.php?type=view&action=event&i
 d=97243
CREATED:20260302T161423Z
LAST-MODIFIED:20260411T003535Z
UID:event-97243-westminsteracademy@intand.com
END:VEVENT
END:VCALENDAR
