BEGIN:VCALENDAR
VERSION:2.0
PRODID:-//Intand Corporation//Tandem//EN
METHOD:PUBLISH
BEGIN:VEVENT
DTSTAMP:20260421T172818Z
DTSTART:20260408T120000Z
DTEND:20260413T020000Z
TRANSP:TRANSPARENT
PRIORITY:0
SUMMARY:Rocket City Regional - FIRST Robotics 
LOCATION:700 Monroe St SW
DESCRIPTION:The Rocket City Regional is a prominent annual FRC (FIRST Robo
 tics Competition) event held in Huntsville\, Alabama\, typically in early 
 spring at the Von Braun Center. It brings together international teams to 
 compete in a high-energy\, four-day event\, featuring challenging engineer
 ing tasks. \n\n\nGroups:\nRobotics\n\nSchools:\nWestminster Academy - Uppe
 r School\n\nLocation:\n700 Monroe St SW\n\n
X-ALT-DESC;FMTTYPE=text/html:<!doctype html><html><body>The Rocket City Re
 gional is a prominent annual FRC (FIRST Robotics Competition) event held i
 n Huntsville\, Alabama\, typically in early spring at the Von Braun Center
 <span>. </span>It brings together international teams to compete in a high
 -energy\, four-day event\, featuring challenging engineering tasks<span>. 
 </span><br /><br />Groups:<br />Robotics<br /><br />Schools:<br />Westmins
 ter Academy - Upper School<br /><br />Location:<br />700 Monroe St SW<br /
 ></body></html>
URL;VALUE=URI:http://wa.wacad.tandem.co/index.php?type=view&action=event&i
 d=97047
CREATED:20260203T154455Z
LAST-MODIFIED:20260203T154519Z
UID:event-97047-westminsteracademy@intand.com
END:VEVENT
END:VCALENDAR
