BEGIN:VCALENDAR
VERSION:2.0
PRODID:-//Intand Corporation//Tandem//EN
METHOD:PUBLISH
BEGIN:VEVENT
DTSTAMP:20260421T183402Z
DTSTART:20260401T203000Z
DTEND:20260401T213000Z
TRANSP:TRANSPARENT
PRIORITY:0
SUMMARY:Varsity Ladies Water Polo Senior Game vs. Palm Beach Central
LOCATION:WA - Big Pool
DESCRIPTION:Groups:\nAthletics\nUpper School\nWater Polo Girls Varsity\n\n
 Schools:\nWestminster Academy - Upper School\n\nLocation:\nWA - Big Pool\n
 \n
URL;VALUE=URI:http://wa.wacad.tandem.co/index.php?type=view&action=event&i
 d=97035
CREATED:20260202T182419Z
LAST-MODIFIED:20260323T143216Z
UID:event-97035-westminsteracademy@intand.com
END:VEVENT
END:VCALENDAR
